BEGIN:VCALENDAR
VERSION:2.0
PRODID:-//.::FUNDECYT PARQUE CIENTÍFICO Y TECNOLÓGICO DE EXTREMADURA ::. - ECPv6.15.20//NONSGML v1.0//EN
CALSCALE:GREGORIAN
METHOD:PUBLISH
X-WR-CALNAME:.::FUNDECYT PARQUE CIENTÍFICO Y TECNOLÓGICO DE EXTREMADURA ::.
X-ORIGINAL-URL:https://www.fundecyt-pctex.es
X-WR-CALDESC:Eventos para .::FUNDECYT PARQUE CIENTÍFICO Y TECNOLÓGICO DE EXTREMADURA ::.
REFRESH-INTERVAL;VALUE=DURATION:PT1H
X-Robots-Tag:noindex
X-PUBLISHED-TTL:PT1H
BEGIN:VTIMEZONE
TZID:Europe/Madrid
BEGIN:DAYLIGHT
TZOFFSETFROM:+0100
TZOFFSETTO:+0200
TZNAME:CEST
DTSTART:20240331T010000
END:DAYLIGHT
BEGIN:STANDARD
TZOFFSETFROM:+0200
TZOFFSETTO:+0100
TZNAME:CET
DTSTART:20241027T010000
END:STANDARD
BEGIN:DAYLIGHT
TZOFFSETFROM:+0100
TZOFFSETTO:+0200
TZNAME:CEST
DTSTART:20250330T010000
END:DAYLIGHT
BEGIN:STANDARD
TZOFFSETFROM:+0200
TZOFFSETTO:+0100
TZNAME:CET
DTSTART:20251026T010000
END:STANDARD
BEGIN:DAYLIGHT
TZOFFSETFROM:+0100
TZOFFSETTO:+0200
TZNAME:CEST
DTSTART:20260329T010000
END:DAYLIGHT
BEGIN:STANDARD
TZOFFSETFROM:+0200
TZOFFSETTO:+0100
TZNAME:CET
DTSTART:20261025T010000
END:STANDARD
END:VTIMEZONE
BEGIN:VEVENT
DTSTART;TZID=Europe/Madrid:20250530T103000
DTEND;TZID=Europe/Madrid:20250530T123000
DTSTAMP:20260422T104323
CREATED:20250526T100909Z
LAST-MODIFIED:20250526T100909Z
UID:18307-1748601000-1748608200@www.fundecyt-pctex.es
SUMMARY:JORNADA INFORMATIVA: CETpartnership Joint Call 2025
DESCRIPTION:Como complemento al evento de lanzamiento de la CETPartnership Joint Call 2025\, que tendrá lugar el próximo 28 de mayo donde se presentarán las etapas\, estructura\, temáticas de la convocatoria y criterios de elegibilidad transnacionales\, la Oficina de Proyectos Europeos (OPE-SECTI) co-organiza junto con las agencias financiadoras españolas una sesión informativa adicional el 30 de mayo (10:30 – 12:30) en formato virtual. Este evento está destinado a aclarar dudas y ofrecer información específica sobre las condiciones de participación y financiación por parte de las agencias españolas. \nDirigido a todos los actores del Sistema Español de Ciencia y Tecnología (SECTI): universidades\, centros de investigación\, empresas\, empresas\, fundaciones\, así como gestores y asesores de proyectos interesados en participar como socios o coordinadores de propuestas. \nPueden registrarse al evento a través del enlace.
URL:https://www.fundecyt-pctex.es/evento/jornada-informativa-cetpartnership-joint-call-2025/
END:VEVENT
END:VCALENDAR