BEGIN:VCALENDAR
VERSION:2.0
PRODID:-//.::FUNDECYT PARQUE CIENTÍFICO Y TECNOLÓGICO DE EXTREMADURA ::. - ECPv6.15.20//NONSGML v1.0//EN
CALSCALE:GREGORIAN
METHOD:PUBLISH
X-WR-CALNAME:.::FUNDECYT PARQUE CIENTÍFICO Y TECNOLÓGICO DE EXTREMADURA ::.
X-ORIGINAL-URL:https://www.fundecyt-pctex.es
X-WR-CALDESC:Eventos para .::FUNDECYT PARQUE CIENTÍFICO Y TECNOLÓGICO DE EXTREMADURA ::.
REFRESH-INTERVAL;VALUE=DURATION:PT1H
X-Robots-Tag:noindex
X-PUBLISHED-TTL:PT1H
BEGIN:VTIMEZONE
TZID:Europe/Madrid
BEGIN:DAYLIGHT
TZOFFSETFROM:+0100
TZOFFSETTO:+0200
TZNAME:CEST
DTSTART:20240331T010000
END:DAYLIGHT
BEGIN:STANDARD
TZOFFSETFROM:+0200
TZOFFSETTO:+0100
TZNAME:CET
DTSTART:20241027T010000
END:STANDARD
BEGIN:DAYLIGHT
TZOFFSETFROM:+0100
TZOFFSETTO:+0200
TZNAME:CEST
DTSTART:20250330T010000
END:DAYLIGHT
BEGIN:STANDARD
TZOFFSETFROM:+0200
TZOFFSETTO:+0100
TZNAME:CET
DTSTART:20251026T010000
END:STANDARD
BEGIN:DAYLIGHT
TZOFFSETFROM:+0100
TZOFFSETTO:+0200
TZNAME:CEST
DTSTART:20260329T010000
END:DAYLIGHT
BEGIN:STANDARD
TZOFFSETFROM:+0200
TZOFFSETTO:+0100
TZNAME:CET
DTSTART:20261025T010000
END:STANDARD
END:VTIMEZONE
BEGIN:VEVENT
DTSTART;TZID=Europe/Madrid:20250314T103000
DTEND;TZID=Europe/Madrid:20250314T120000
DTSTAMP:20260424T122931
CREATED:20250306T100931Z
LAST-MODIFIED:20250306T100931Z
UID:18017-1741948200-1741953600@www.fundecyt-pctex.es
SUMMARY:Mesa de Intercambio Científico y Tecnológico sobre Ciencia y Tecnología Extremeña para el Deporte
DESCRIPTION:14 de marzo de 2025\n \n IFEBA\, Badajoz \nMÁS INFORMACIÓN E INSCRIPCIONES \n\nDesde FUNDECYT- Parque Científico y Tecnológico de Extremadura en el marco de la Feria del Deporte de Extremadura\, te invitamos a participar en esta mesa\, que se diseña con el objetivo de mostrar las diferentes tecnologías y líneas de investigación desarrolladas en Extremadura para el deporte. \nLa ciencia y la tecnología ha revolucionado la industria del deporte. Esta sinergia ha transformado fundamentalmente la comprensión y práctica del ejercicio físico. Avances en estas áreas han mejorado el conocimiento de la biomecánica\, fisiología y nutrición deportiva\, mientras que las innovaciones tecnológicas como sensores y análisis de datos han optimizado el rendimiento deportivo y la prevención de lesiones\, beneficiando tanto al deporte profesional como amateur. \nEn Extremadura\, en materia científica y tecnológica\, contamos con grupos de investigación y empresas que trabajan en los últimos retos y tendencias del sector\, abarcando desde la ergonomía y biomecánica deportiva\, Inteligencia artificial y el análisis de datos en el deporte\, biotecnología y nutrigenómica\, innovación en equipamiento o ergonomía digital. \nMÁS INFORMACIÓN E INSCRIPCIONES
URL:https://www.fundecyt-pctex.es/evento/mesa-de-intercambio-cientifico-y-tecnologico-sobre-ciencia-y-tecnologia-extremena-para-el-deporte/
LOCATION:IFEBA\, Av. de Elvas\, S/N\,\, Badajoz\, Badajoz\, 06006\, Spain
ATTACH;FMTTYPE=image/jpeg:https://www.fundecyt-pctex.es/wp-content/uploads/2025/03/deporte_ciencia.jpg
END:VEVENT
END:VCALENDAR