BEGIN:VCALENDAR
VERSION:2.0
PRODID:-//.::FUNDECYT PARQUE CIENTÍFICO Y TECNOLÓGICO DE EXTREMADURA ::. - ECPv6.15.20//NONSGML v1.0//EN
CALSCALE:GREGORIAN
METHOD:PUBLISH
X-WR-CALNAME:.::FUNDECYT PARQUE CIENTÍFICO Y TECNOLÓGICO DE EXTREMADURA ::.
X-ORIGINAL-URL:https://www.fundecyt-pctex.es
X-WR-CALDESC:Eventos para .::FUNDECYT PARQUE CIENTÍFICO Y TECNOLÓGICO DE EXTREMADURA ::.
REFRESH-INTERVAL;VALUE=DURATION:PT1H
X-Robots-Tag:noindex
X-PUBLISHED-TTL:PT1H
BEGIN:VTIMEZONE
TZID:Europe/Madrid
BEGIN:DAYLIGHT
TZOFFSETFROM:+0100
TZOFFSETTO:+0200
TZNAME:CEST
DTSTART:20250330T010000
END:DAYLIGHT
BEGIN:STANDARD
TZOFFSETFROM:+0200
TZOFFSETTO:+0100
TZNAME:CET
DTSTART:20251026T010000
END:STANDARD
BEGIN:DAYLIGHT
TZOFFSETFROM:+0100
TZOFFSETTO:+0200
TZNAME:CEST
DTSTART:20260329T010000
END:DAYLIGHT
BEGIN:STANDARD
TZOFFSETFROM:+0200
TZOFFSETTO:+0100
TZNAME:CET
DTSTART:20261025T010000
END:STANDARD
BEGIN:DAYLIGHT
TZOFFSETFROM:+0100
TZOFFSETTO:+0200
TZNAME:CEST
DTSTART:20270328T010000
END:DAYLIGHT
BEGIN:STANDARD
TZOFFSETFROM:+0200
TZOFFSETTO:+0100
TZNAME:CET
DTSTART:20271031T010000
END:STANDARD
END:VTIMEZONE
BEGIN:VEVENT
DTSTART;TZID=Europe/Madrid:20260313T103000
DTEND;TZID=Europe/Madrid:20260313T123000
DTSTAMP:20260426T024559
CREATED:20260309T102433Z
LAST-MODIFIED:20260309T102434Z
UID:10000421-1773397800-1773405000@www.fundecyt-pctex.es
SUMMARY:Mesa de intercambio científico y tecnológico: Retos tecnológicos y necesidades de innovación en la actividad física y deportiva
DESCRIPTION:13 de marzo de 2026De 10:30 a 12:30 horasIFEBA\, Badajoz \n\nDesde FUNDECYT – Parque Científico y Tecnológico de Extremadura\, en el marco de la II Feria del Deporte de Extremadura\, os invitamos a participar en la Mesa de intercambio científico y tecnológico: Retos tecnológicos y necesidades de innovación en la actividad física y deportiva. \nEsta Mesa\, diseñada para poner al servicio del deporte el conocimiento científico y la capacidad de innovación de nuestra región\, se crea como un espacio diálogo entre todos los agentes del mismo\, en el que analizar los numerosos retos a los que se enfrenta el sector: cómo personalizar el entrenamiento adaptándolo a las características individuales de cada deportista\, cómo prevenir lesiones de manera más eficaz\, cómo hacer el deporte más accesible e inclusivo\, o cómo medir con precisión el impacto de la actividad física en la salud y el bienestar. Dar respuesta a estos desafíos exige mirar más allá de los métodos tradicionales y apostar decididamente por la investigación aplicada y la transferencia de conocimiento. \nFrente a estos desafíos\, la inteligencia artificial\, el análisis avanzado de datos\, la biotecnología\, los sensores inteligentes o la ergonomía digital están ofreciendo soluciones concretas que ya están cambiando la forma en que entendemos y practicamos el deporte\, y desde Extremadura podemos contribuir activamente a ese cambio. \nPrograma:\n10:30 Bienvenida y presentación de la mesaD. José Luis Canito Lobo Director Gerente FUNDECYT-PCTEX \n10:35 Retos y necesidades de innovación asociados a la actividad física y deportivaModera D. Edgar Delgado Torres FUNDECYT-PCTEX \nD. Rubén Tanco Ciclista profesional Jefe de filas del Fundación CB IntegrateamD. Fernando Pons Presidente del Club de fútbol Sport Extremadura CDD. José Ángel Rama Director del Club Atletismo Perceiana Extremadura CAPEX \n11:15 Soluciones tecnológicas para la actividad física y deportiva \nModera D. Tomás García Calvo Presidente de la Asociación Nacional de Ciencias del Deporte y Decano de la Facultad de Ciencias del Deporte \nDña. Mª Concepción Robles Coordinadora del Grupo de investigación FESAED UEXDña. Ana Rubio Morales Investigadora del Grupo de investigación ACAFYDE UEXDña. María Carrasco Investigadora del grupo de investigación BIOERGÓN UEX \n12:00 Debate y conclusionesModera D. Edgar Delgado Torres FUNDECYT-PCTEX \n \nPonentes:\n \nAna  Rubio Morales  \nPerfil:  \nInvestigadora del Grupo de investigación ACAFYDE – UEX. Ana es graduada en Ciencias del Deporte por la Universidad de Extremadura (UEx) y actual doctoranda en la misma institución\, integrada en el Grupo de Investigación ACAFYDE. Su línea principal de dentro de ACAFYDE se centra en la fatiga mental y el deterioro cognitivo asociado al envejecimiento\, explorando la investigación del entrenamiento combinado (físico y cognitivo tipo BET) como solución preventiva. Colaboradora en proyectos premiados como el SEMED 2025\, participa en estudios con impacto en rendimiento cognitivo\, junto a expertos como Tomás García Calvo\, psicología deportiva y la salud en Extremadura. \n\n\n\n \nFernando  Pons \nPerfil:  \nPresidente del club de fútbol femenino Sport Extremadura CD\, proyecto que impulsa desde 2021 como plataforma innovadora\, social y tecnológicamente avanzada en el deporte femenino. Profesionalmente\, compagina este cargo con funciones directivas en el ámbito tecnológico y emprendedor\, destacando su papel en Quercus Endeavor y en el ecosistema sportech . Cuenta con formación en ingeniería informática y gestión empresarial por instituciones como la Universidad Pontificia Comillas y IESE Business School\, lo que refuerza su perfil como líder estratégico en proyectos que combinan deporte\, innovación y desarrollo empresarial. \n\n\n\n \nJosé  Ángel Rama  \nPerfil:  \nDirector del Club Deportivo CAPEX de Villafranca de los Barros. Es licenciado en Ciencias de la Actividad Física y del Deporte por la Universidad de Extremadura . Bajo su liderazgo\, el club ha crecido hasta participar en la primera histórica Copa de España de clubes en 2026\, con 20 atletas en División de Honor. (masculino) y Primera División (femenino)\, logrando permanencia y reconocimientos nacionales. Reconocido como deportista de alto rendimiento junto a su atleta Isabel Guisado\, es también entrenador personal y formador apasionado por el atletismo en Extremadura. \n\n\n\n \nMª Concepción  Robles \nPerfil:  \nCoordinadora del Grupo de investigación FESAED – UEX. Profesora titular de Universidad en la Facultad de Ciencias del Deporte de la Universidad de Extremadura (UEx)\, donde actúa como coordinadora del Grupo de Investigación FESAED\, centrado en fisiología del ejercicio y rendimiento deportivo. Doctora y contratada doctora por la UEx\, destaca en áreas como entrenamiento cerebral\, educación física y metodologías activas\, con experiencia como tutora de prácticas externas desde 2019 y reconocimientos recientes por su labor docente e investigadora. Entre sus trabajos relevantes figura la investigación sobre fisiología del ejercicio en contextos educativos y deportivos. \n\n\n\n \nMaría  Carrasco \nPerfil:  \nInvestigadora del grupo de investigación BIOERGÓN – UEX. Graduada en Ingeniería en Diseño Industrial y Desarrollo de Productos por el Centro Universitario de Mérida (UEx)\, realizó su TFG en colaboración con el Hospital de Mérida\, aportando soluciones de diseño aplicadas al diagnóstico por imagen. Especializada en biomecánica del movimiento humano y ergonomía\, su trabajo se orienta al análisis de la técnica deportiva\, el diseño de productos de apoyo y la transferencia tecnológica al ámbito del deporte y la salud. \n\n\n\n \nRubén  Tanco  \nPerfil:  \nJefe de filas del Fundación CB\, es un ciclista profesional adaptado\, que ha convertido el deporte en su gran motor de superación personal y profesional. Inició su trayectoria en BMX Race compitiendo con deportistas sin discapacidad y hoy destaca en ciclismo adaptado en pista y ruta\, donde suma numerosos títulos de España\, Copas de España y Copas de Europa desde 2017. Como capitán de la Fundación CB Integra Team impulsa la visibilidad del ciclismo adaptado y\, con su proyecto “Superación sobre Ruedas”\, lleva charlas motivacionales y valores deportivos por toda España. \n\n\n\n \nTomás  García Calvo \nPerfil:  \nCatedrático de Ciencias del Deporte en la Universidad de Extremadura (UEx)\, decano de la Facultad de Ciencias del Deporte —referencia mundial según el Ranking de Shanghái— y presidente de la Asociación Española de Ciencias del Deporte. Nacido y radicado en Extremadura\, su trayectoria está ligada a la región desde 2005 como profesor\, coordinador del grupo ACAFYDE y entrenador UEFA PRO en clubes de Segunda B. Experto en alto rendimiento futbolístico\, psicología deportiva y dirección de equipos\, suma más de 8.900 citas académicas y promueve la salud y el deporte en entornos educativos extremeños.
URL:https://www.fundecyt-pctex.es/evento/mesa-de-intercambio-cientifico-y-tecnologico-retos-tecnologicos-y-necesidades-de-innovacion-en-la-actividad-fisica-y-deportiva/
LOCATION:IFEBA\, Av. de Elvas\, s/n\, Badajoz\, 06006
CATEGORIES:Regional
ATTACH;FMTTYPE=image/jpeg:https://www.fundecyt-pctex.es/wp-content/uploads/2026/03/banner-2026.jpg
END:VEVENT
END:VCALENDAR